BEGIN:VCALENDAR
VERSION:2.0
PRODID:-//Perennial Streams - ECPv6.15.20//NONSGML v1.0//EN
CALSCALE:GREGORIAN
METHOD:PUBLISH
X-ORIGINAL-URL:https://perennialstreams.com
X-WR-CALDESC:Events for Perennial Streams
REFRESH-INTERVAL;VALUE=DURATION:PT1H
X-Robots-Tag:noindex
X-PUBLISHED-TTL:PT1H
BEGIN:VTIMEZONE
TZID:Africa/Johannesburg
BEGIN:STANDARD
TZOFFSETFROM:+0200
TZOFFSETTO:+0200
TZNAME:SAST
DTSTART:20240101T000000
END:STANDARD
END:VTIMEZONE
BEGIN:VEVENT
DTSTART;VALUE=DATE:20250429
DTEND;VALUE=DATE:20250430
DTSTAMP:20260422T131436
CREATED:20250403T145624Z
LAST-MODIFIED:20250406T013121Z
UID:71846-1745884800-1745971199@perennialstreams.com
SUMMARY:Implemention Successful Coaching In Organisations
DESCRIPTION:Download Flyer: Implementing Successful Coaching in Organisations 2025 LM \n			\n				Register
URL:https://perennialstreams.com/event/implemention-successful-coaching-in-organisations/
LOCATION:Royal Villas\, Ezulwini\, Swaziland
ORGANIZER;CN="IPM & Perennial Streams & Connemara":MAILTO:jpmswaziland@gmail.com
END:VEVENT
END:VCALENDAR